Workbook

Sheet Yükleme Talimatı
A1: YÜKLEME / KONŞİMENTO TALİMATI | SHIPPER'S LETTER OF INSTRUCTION | K1: 🖨 YAZDIR / PDF
A2: {=_xlfn.LET(_xlpm.n,(TRIM(C4)="")+(TRIM(C5)="")+(TRIM(C7)="")+(TRIM(C8)="")+(TRIM(C12)="")+(TRIM(C13)="")+(TRIM(C15)="")+(TRIM(C16)="")+(1-(LEFT($L$11,1)="☑"))*((TRIM(I12)="")+(TRIM(I13)="")+(TRIM(I15)="")+(TRIM(I16)="")),_xlpm.g,(TRIM(A20)="")+(TRIM(D20)="")+(TRIM(G20)="")+(TRIM(I20)="")+(TRIM(D22)="")+(TRIM(G22)=""),_xlpm.f,--(MMULT(--(B25:O32<>""),_xlfn.SEQUENCE(14,1,1,0))>0),_xlpm.lc,--($G$20="LCL"),_xlpm.q,(1-_xlpm.lc)*((B25:B32="")+(C25:C32="")+(D25:D32=""))+(E25:E32="")+(F25:F32="")+(G25:G32="")+(H25:H32="")+(L25:L32="")+_xlpm.lc*((M25:M32="")+(N25:N32="")+(O25:O32="")),_xlpm.z,SUM(_xlpm.f)=0,_xlpm.y,IF(_xlpm.z,1,SUM(_xlpm.f*_xlpm.q)),IF(_xlpm.n+_xlpm.g+_xlpm.y=0,"✔ Zorunlu alanlar tamam","✖ Eksik zorunlu alan – Taraf: "&_xlpm.n&" | Sevkiyat: "&_xlpm.g&" | Yük: "&IF(_xlpm.z,"hiç yük satırı girilmedi",_xlpm.y)&" (* işaretli alanlar)"))} -> ✖ Eksik zorunlu alan – Taraf: 12 | Sevkiyat: 6 | Yük: hiç yük satırı girilmedi (* işaretli alanlar)
A3: GÖNDERİCİ / SHIPPER | G3: Tarih
A4: Unvan * | G4: Gönderici Referansı
A5: Adres * | G5: Forwarder Referansı
A6: Vergi No | G6: FORWARDING ACENTE
A7: Telefon * | G7: Unvan | I7: TARGET-INT LOJİSTİK SERVİSLERİ
A8: E-posta * | G8: E-posta | I8: opr@targetint.com.tr
A9: Kontak Kişi | G9: Telefon | I9: +90 216 330 7533
A11: ALICI / CONSIGNEE | G11: İHBAR / NOTIFY PARTY | L11: ☐ Alıcı ile aynı (Same as Consignee)
A12: Unvan * | G12: Unvan *
A13: Adres * | G13: Adres *
A14: Vergi No | G14: Vergi No
A15: Telefon * | G15: Telefon *
A16: E-posta * | G16: E-posta *
A17: Kontak Kişi | G17: Kontak Kişi
A19: Gemi Adı * | D19: Sefer No * | G19: Yükleme Şekli * | I19: Teslim Şekli (Incoterm) * | K19: Ödeme Şekli (otomatik)
K20: =IF(I20="","",IFERROR(INDEX(Listeler!$E$2:$E$12,MATCH(I20,Listeler!$D$2:$D$12,0)),""))
A21: Yükleme Şehri | D21: Yükleme Limanı * | G21: Tahliye Limanı * | I21: Teslim Şehri
A24: No | B24: =IF($G$20="LCL","Konteyner Tipi","Konteyner Tipi *") -> Konteyner Tipi * | C24: =IF($G$20="LCL","Konteyner No","Konteyner No *") -> Konteyner No * | D24: =IF($G$20="LCL","Mühür No","Mühür No *") -> Mühür No * | E24: Kap Sayısı * | F24: Kap Cinsi * | G24: Mal Cinsi * | H24: HS Kodu (GTİP) * | I24: IMO Sınıfı | J24: UN No | K24: Net KG | L24: Brüt KG * | M24: =IF($G$20="LCL","En (cm) *","En (cm)") -> En (cm) | N24: =IF($G$20="LCL","Boy (cm) *","Boy (cm)") -> Boy (cm) | O24: =IF($G$20="LCL","Yükseklik (cm) *","Yükseklik (cm)") -> Yükseklik (cm) | P24: Hacim (m³)
A25: 1 | P25: =IF(AND($G$20="LCL",COUNT(E25,M25:O25)=4),ROUND(E25*M25*N25*O25/1000000,3),"")
A26: 2 | P26: =IF(AND($G$20="LCL",COUNT(E26,M26:O26)=4),ROUND(E26*M26*N26*O26/1000000,3),"")
A27: 3 | P27: =IF(AND($G$20="LCL",COUNT(E27,M27:O27)=4),ROUND(E27*M27*N27*O27/1000000,3),"")
A28: 4 | P28: =IF(AND($G$20="LCL",COUNT(E28,M28:O28)=4),ROUND(E28*M28*N28*O28/1000000,3),"")
A29: 5 | P29: =IF(AND($G$20="LCL",COUNT(E29,M29:O29)=4),ROUND(E29*M29*N29*O29/1000000,3),"")
A30: 6 | P30: =IF(AND($G$20="LCL",COUNT(E30,M30:O30)=4),ROUND(E30*M30*N30*O30/1000000,3),"")
A31: 7 | P31: =IF(AND($G$20="LCL",COUNT(E31,M31:O31)=4),ROUND(E31*M31*N31*O31/1000000,3),"")
A32: 8 | P32: =IF(AND($G$20="LCL",COUNT(E32,M32:O32)=4),ROUND(E32*M32*N32*O32/1000000,3),"")
A33: TOPLAM | B33: {=IF(AND($G$20="LCL",COUNTA(B25:B32)=0),"LCL",IFERROR(_xlfn.LET(_xlpm.t,B25:B32,_xlpm.n,C25:C32,_xlpm.k,_xlfn.UNIQUE(_xlfn._xlws.FILTER(_xlpm.t&"|"&_xlpm.n,_xlpm.t<>"")),_xlpm.ty,LEFT(_xlpm.k,FIND("|",_xlpm.k)-1),_xlpm.u,_xlfn.UNIQUE(_xlpm.ty),_xlfn.TEXTJOIN(" + ",TRUE,MMULT(--(_xlpm.u=TRANSPOSE(_xlpm.ty)),_xlfn.SEQUENCE(ROWS(_xlpm.ty),1,1,0))&" X "&_xlpm.u)),""))} | E33: =SUM(E25:E32) -> 0 | F33: {=IFERROR(_xlfn.LET(_xlpm.u,_xlfn.UNIQUE(_xlfn._xlws.FILTER(F25:F32,F25:F32<>"")),IF(ROWS(_xlpm.u)=1,_xlpm.u,"PCK")),"")} | K33: =SUM(K25:K32) -> 0 | L33: =SUM(L25:L32) -> 0 | P33: =SUM(P25:P32) -> 0
A35: • Ürün tehlikeli kargo kategorisindeyse MSDS ve DG Form iletiniz.
A36: • Yüklemede akreditif şartı varsa, akreditif metninin bir kopyasını tarafımıza iletiniz.
A37: • Emtia Sigortası taleplerinizi ayrıca belirtiniz.
A39: GÜMRÜK ACENTESİ & İLGİLİ KİŞİ | G39: FİRMA KAŞE İMZA
A40: Unvan
A41: İlgili Kişi Ad Soyad
A42: E-posta
A43: Telefon

Sheet Listeler
A1: Yükleme Şekli | B1: Konteyner Tipi | C1: Kap Cinsi | D1: Incoterm | E1: Ödeme Şekli (Incoterm'e göre) | F1: IMO Sınıfı | G1: İhbar Seçeneği
A2: FCL | B2: 20'DC | C2: PALLET(s) | D2: EXW | E2: CC | F2: 1 | G2: ☐ Alıcı ile aynı (Same as Consignee)
A3: LCL | B3: 40'DC | C3: BOX(es) | D3: FCA | E3: CC | F3: 2.1 | G3: ☑ Alıcı ile aynı (Same as Consignee)
B4: 40'HC | C4: CARTON(s) | D4: FAS | E4: CC | F4: 2.2
B5: 45'HC | C5: CASE(s) | D5: FOB | E5: CC | F5: 2.3
B6: 20'RF | C6: CRATE(s) | D6: CFR | E6: PP | F6: 3
B7: 40'RH | C7: BAG(s) | D7: CIF | E7: PP | F7: 4.1
B8: 20'OT | C8: BUNDLE(s) | D8: CPT | E8: PP | F8: 4.2
B9: 40'OT | C9: DRUM(s) | D9: CIP | E9: PP | F9: 4.3
B10: 20'FR | C10: ROLL(s) | D10: DAP | E10: PP | F10: 5.1
B11: 40'FR | C11: PACKAGE(s) | D11: DPU | E11: PP | F11: 5.2
B12: 20'TK | C12: PIECE(s) | D12: DDP | E12: PP | F12: 6.1
F13: 6.2
F14: 7
F15: 8
F16: 9

Sheet Baskı (A4)
A1: YÜKLEME / KONŞİMENTO TALİMATI | I1: ◀ FORMA DÖN
A2: SHIPPER'S LETTER OF INSTRUCTION | I2: Yazdır: Ctrl+P
A3: Tarih | C3: Gönderici Referansı | E3: Forwarder Referansı | I3: PDF: Dosya > Dışarı Aktar > PDF
A4: =IF('Yükleme Talimatı'!I3="","",'Yükleme Talimatı'!I3) | C4: ='Yükleme Talimatı'!I4&"" | E4: ='Yükleme Talimatı'!I5&"" | I4: (A4 dikey, tek sayfa ayarlı)
A6: GÖNDERİCİ / SHIPPER | D6: ALICI / CONSIGNEE
A7: =IF('Yükleme Talimatı'!C4="","",'Yükleme Talimatı'!C4&CHAR(10)&'Yükleme Talimatı'!C5&CHAR(10)&IF('Yükleme Talimatı'!C6="","","Vergi No: "&'Yükleme Talimatı'!C6&CHAR(10))&"Tel: "&'Yükleme Talimatı'!C7&" E-posta: "&'Yükleme Talimatı'!C8&IF('Yükleme Talimatı'!C9="","",CHAR(10)&"Kontak: "&'Yükleme Talimatı'!C9)) | D7: =IF('Yükleme Talimatı'!C12="","",'Yükleme Talimatı'!C12&CHAR(10)&'Yükleme Talimatı'!C13&CHAR(10)&IF('Yükleme Talimatı'!C14="","","Vergi No: "&'Yükleme Talimatı'!C14&CHAR(10))&"Tel: "&'Yükleme Talimatı'!C15&" E-posta: "&'Yükleme Talimatı'!C16&IF('Yükleme Talimatı'!C17="","",CHAR(10)&"Kontak: "&'Yükleme Talimatı'!C17))
A8: İHBAR / NOTIFY PARTY | D8: FORWARDING ACENTE
A9: =IF(LEFT('Yükleme Talimatı'!$L$11,1)="☑","SAME AS CONSIGNEE"&IF('Yükleme Talimatı'!C12="","",CHAR(10)&IF('Yükleme Talimatı'!C12="","",'Yükleme Talimatı'!C12&CHAR(10)&'Yükleme Talimatı'!C13&CHAR(10)&IF('Yükleme Talimatı'!C14="","","Vergi No: "&'Yükleme Talimatı'!C14&CHAR(10))&"Tel: "&'Yükleme Talimatı'!C15&" E-posta: "&'Yükleme Talimatı'!C16&IF('Yükleme Talimatı'!C17="","",CHAR(10)&"Kontak: "&'Yükleme Talimatı'!C17))),IF('Yükleme Talimatı'!I12="","",'Yükleme Talimatı'!I12&CHAR(10)&'Yükleme Talimatı'!I13&CHAR(10)&IF('Yükleme Talimatı'!I14="","","Vergi No: "&'Yükleme Talimatı'!I14&CHAR(10))&"Tel: "&'Yükleme Talimatı'!I15&" E-posta: "&'Yükleme Talimatı'!I16&IF('Yükleme Talimatı'!I17="","",CHAR(10)&"Kontak: "&'Yükleme Talimatı'!I17))) | D9: ='Yükleme Talimatı'!I7&CHAR(10)&'Yükleme Talimatı'!I8&CHAR(10)&'Yükleme Talimatı'!I9 -> TARGET-INT LOJİSTİK SERVİSLERİ opr@targetint.com.tr +90 216 330 7533
A11: Gemi Adı & Seferi | C11: Yükleme Şekli | D11: Teslim & Ödeme Şekli
A12: ='Yükleme Talimatı'!A20&IF('Yükleme Talimatı'!D20="",""," / "&'Yükleme Talimatı'!D20) | C12: ='Yükleme Talimatı'!G20&"" | D12: ='Yükleme Talimatı'!I20&IF('Yükleme Talimatı'!K20="",""," - "&'Yükleme Talimatı'!K20)
A13: Yükleme Şehri | C13: Yükleme Limanı | D13: Tahliye Limanı | E13: Teslim Şehri
A14: ='Yükleme Talimatı'!A22&"" | C14: ='Yükleme Talimatı'!D22&"" | D14: ='Yükleme Talimatı'!G22&"" | E14: ='Yükleme Talimatı'!I22&""
A16: No | B16: Konteyner Tipi / No / Mühür No | C16: Kap Sayısı & Cinsi | D16: Mal Cinsi & Tarife Kodu / IMO & UN No | E16: Net KG | F16: Brüt KG | G16: Hacim (m³)
A17: =IF(COUNTA('Yükleme Talimatı'!B25:O25)=0,"",'Yükleme Talimatı'!A25) | B17: =IF('Yükleme Talimatı'!B25&'Yükleme Talimatı'!C25&'Yükleme Talimatı'!D25="","",'Yükleme Talimatı'!B25&CHAR(10)&'Yükleme Talimatı'!C25&CHAR(10)&"S.No: "&'Yükleme Talimatı'!D25) | C17: =IF('Yükleme Talimatı'!E25="","",FIXED('Yükleme Talimatı'!E25,0)&CHAR(10)&'Yükleme Talimatı'!F25&IF(COUNT('Yükleme Talimatı'!M25:O25)=3,CHAR(10)&FIXED('Yükleme Talimatı'!M25,0)&"x"&FIXED('Yükleme Talimatı'!N25,0)&"x"&FIXED('Yükleme Talimatı'!O25,0)&" cm","")) | D17: =IF('Yükleme Talimatı'!G25&'Yükleme Talimatı'!H25="","",'Yükleme Talimatı'!G25&CHAR(10)&"HS CODE: "&'Yükleme Talimatı'!H25&IF('Yükleme Talimatı'!I25&'Yükleme Talimatı'!J25="","",CHAR(10)&"IMO: "&'Yükleme Talimatı'!I25&" / UN No: "&'Yükleme Talimatı'!J25)) | E17: =IF('Yükleme Talimatı'!K25="","",'Yükleme Talimatı'!K25) | F17: =IF('Yükleme Talimatı'!L25="","",'Yükleme Talimatı'!L25) | G17: =IF('Yükleme Talimatı'!P25="","",'Yükleme Talimatı'!P25)
A18: =IF(COUNTA('Yükleme Talimatı'!B26:O26)=0,"",'Yükleme Talimatı'!A26) | B18: =IF('Yükleme Talimatı'!B26&'Yükleme Talimatı'!C26&'Yükleme Talimatı'!D26="","",'Yükleme Talimatı'!B26&CHAR(10)&'Yükleme Talimatı'!C26&CHAR(10)&"S.No: "&'Yükleme Talimatı'!D26) | C18: =IF('Yükleme Talimatı'!E26="","",FIXED('Yükleme Talimatı'!E26,0)&CHAR(10)&'Yükleme Talimatı'!F26&IF(COUNT('Yükleme Talimatı'!M26:O26)=3,CHAR(10)&FIXED('Yükleme Talimatı'!M26,0)&"x"&FIXED('Yükleme Talimatı'!N26,0)&"x"&FIXED('Yükleme Talimatı'!O26,0)&" cm","")) | D18: =IF('Yükleme Talimatı'!G26&'Yükleme Talimatı'!H26="","",'Yükleme Talimatı'!G26&CHAR(10)&"HS CODE: "&'Yükleme Talimatı'!H26&IF('Yükleme Talimatı'!I26&'Yükleme Talimatı'!J26="","",CHAR(10)&"IMO: "&'Yükleme Talimatı'!I26&" / UN No: "&'Yükleme Talimatı'!J26)) | E18: =IF('Yükleme Talimatı'!K26="","",'Yükleme Talimatı'!K26) | F18: =IF('Yükleme Talimatı'!L26="","",'Yükleme Talimatı'!L26) | G18: =IF('Yükleme Talimatı'!P26="","",'Yükleme Talimatı'!P26)
A19: =IF(COUNTA('Yükleme Talimatı'!B27:O27)=0,"",'Yükleme Talimatı'!A27) | B19: =IF('Yükleme Talimatı'!B27&'Yükleme Talimatı'!C27&'Yükleme Talimatı'!D27="","",'Yükleme Talimatı'!B27&CHAR(10)&'Yükleme Talimatı'!C27&CHAR(10)&"S.No: "&'Yükleme Talimatı'!D27) | C19: =IF('Yükleme Talimatı'!E27="","",FIXED('Yükleme Talimatı'!E27,0)&CHAR(10)&'Yükleme Talimatı'!F27&IF(COUNT('Yükleme Talimatı'!M27:O27)=3,CHAR(10)&FIXED('Yükleme Talimatı'!M27,0)&"x"&FIXED('Yükleme Talimatı'!N27,0)&"x"&FIXED('Yükleme Talimatı'!O27,0)&" cm","")) | D19: =IF('Yükleme Talimatı'!G27&'Yükleme Talimatı'!H27="","",'Yükleme Talimatı'!G27&CHAR(10)&"HS CODE: "&'Yükleme Talimatı'!H27&IF('Yükleme Talimatı'!I27&'Yükleme Talimatı'!J27="","",CHAR(10)&"IMO: "&'Yükleme Talimatı'!I27&" / UN No: "&'Yükleme Talimatı'!J27)) | E19: =IF('Yükleme Talimatı'!K27="","",'Yükleme Talimatı'!K27) | F19: =IF('Yükleme Talimatı'!L27="","",'Yükleme Talimatı'!L27) | G19: =IF('Yükleme Talimatı'!P27="","",'Yükleme Talimatı'!P27)
A20: =IF(COUNTA('Yükleme Talimatı'!B28:O28)=0,"",'Yükleme Talimatı'!A28) | B20: =IF('Yükleme Talimatı'!B28&'Yükleme Talimatı'!C28&'Yükleme Talimatı'!D28="","",'Yükleme Talimatı'!B28&CHAR(10)&'Yükleme Talimatı'!C28&CHAR(10)&"S.No: "&'Yükleme Talimatı'!D28) | C20: =IF('Yükleme Talimatı'!E28="","",FIXED('Yükleme Talimatı'!E28,0)&CHAR(10)&'Yükleme Talimatı'!F28&IF(COUNT('Yükleme Talimatı'!M28:O28)=3,CHAR(10)&FIXED('Yükleme Talimatı'!M28,0)&"x"&FIXED('Yükleme Talimatı'!N28,0)&"x"&FIXED('Yükleme Talimatı'!O28,0)&" cm","")) | D20: =IF('Yükleme Talimatı'!G28&'Yükleme Talimatı'!H28="","",'Yükleme Talimatı'!G28&CHAR(10)&"HS CODE: "&'Yükleme Talimatı'!H28&IF('Yükleme Talimatı'!I28&'Yükleme Talimatı'!J28="","",CHAR(10)&"IMO: "&'Yükleme Talimatı'!I28&" / UN No: "&'Yükleme Talimatı'!J28)) | E20: =IF('Yükleme Talimatı'!K28="","",'Yükleme Talimatı'!K28) | F20: =IF('Yükleme Talimatı'!L28="","",'Yükleme Talimatı'!L28) | G20: =IF('Yükleme Talimatı'!P28="","",'Yükleme Talimatı'!P28)
A21: =IF(COUNTA('Yükleme Talimatı'!B29:O29)=0,"",'Yükleme Talimatı'!A29) | B21: =IF('Yükleme Talimatı'!B29&'Yükleme Talimatı'!C29&'Yükleme Talimatı'!D29="","",'Yükleme Talimatı'!B29&CHAR(10)&'Yükleme Talimatı'!C29&CHAR(10)&"S.No: "&'Yükleme Talimatı'!D29) | C21: =IF('Yükleme Talimatı'!E29="","",FIXED('Yükleme Talimatı'!E29,0)&CHAR(10)&'Yükleme Talimatı'!F29&IF(COUNT('Yükleme Talimatı'!M29:O29)=3,CHAR(10)&FIXED('Yükleme Talimatı'!M29,0)&"x"&FIXED('Yükleme Talimatı'!N29,0)&"x"&FIXED('Yükleme Talimatı'!O29,0)&" cm","")) | D21: =IF('Yükleme Talimatı'!G29&'Yükleme Talimatı'!H29="","",'Yükleme Talimatı'!G29&CHAR(10)&"HS CODE: "&'Yükleme Talimatı'!H29&IF('Yükleme Talimatı'!I29&'Yükleme Talimatı'!J29="","",CHAR(10)&"IMO: "&'Yükleme Talimatı'!I29&" / UN No: "&'Yükleme Talimatı'!J29)) | E21: =IF('Yükleme Talimatı'!K29="","",'Yükleme Talimatı'!K29) | F21: =IF('Yükleme Talimatı'!L29="","",'Yükleme Talimatı'!L29) | G21: =IF('Yükleme Talimatı'!P29="","",'Yükleme Talimatı'!P29)
A22: =IF(COUNTA('Yükleme Talimatı'!B30:O30)=0,"",'Yükleme Talimatı'!A30) | B22: =IF('Yükleme Talimatı'!B30&'Yükleme Talimatı'!C30&'Yükleme Talimatı'!D30="","",'Yükleme Talimatı'!B30&CHAR(10)&'Yükleme Talimatı'!C30&CHAR(10)&"S.No: "&'Yükleme Talimatı'!D30) | C22: =IF('Yükleme Talimatı'!E30="","",FIXED('Yükleme Talimatı'!E30,0)&CHAR(10)&'Yükleme Talimatı'!F30&IF(COUNT('Yükleme Talimatı'!M30:O30)=3,CHAR(10)&FIXED('Yükleme Talimatı'!M30,0)&"x"&FIXED('Yükleme Talimatı'!N30,0)&"x"&FIXED('Yükleme Talimatı'!O30,0)&" cm","")) | D22: =IF('Yükleme Talimatı'!G30&'Yükleme Talimatı'!H30="","",'Yükleme Talimatı'!G30&CHAR(10)&"HS CODE: "&'Yükleme Talimatı'!H30&IF('Yükleme Talimatı'!I30&'Yükleme Talimatı'!J30="","",CHAR(10)&"IMO: "&'Yükleme Talimatı'!I30&" / UN No: "&'Yükleme Talimatı'!J30)) | E22: =IF('Yükleme Talimatı'!K30="","",'Yükleme Talimatı'!K30) | F22: =IF('Yükleme Talimatı'!L30="","",'Yükleme Talimatı'!L30) | G22: =IF('Yükleme Talimatı'!P30="","",'Yükleme Talimatı'!P30)
A23: =IF(COUNTA('Yükleme Talimatı'!B31:O31)=0,"",'Yükleme Talimatı'!A31) | B23: =IF('Yükleme Talimatı'!B31&'Yükleme Talimatı'!C31&'Yükleme Talimatı'!D31="","",'Yükleme Talimatı'!B31&CHAR(10)&'Yükleme Talimatı'!C31&CHAR(10)&"S.No: "&'Yükleme Talimatı'!D31) | C23: =IF('Yükleme Talimatı'!E31="","",FIXED('Yükleme Talimatı'!E31,0)&CHAR(10)&'Yükleme Talimatı'!F31&IF(COUNT('Yükleme Talimatı'!M31:O31)=3,CHAR(10)&FIXED('Yükleme Talimatı'!M31,0)&"x"&FIXED('Yükleme Talimatı'!N31,0)&"x"&FIXED('Yükleme Talimatı'!O31,0)&" cm","")) | D23: =IF('Yükleme Talimatı'!G31&'Yükleme Talimatı'!H31="","",'Yükleme Talimatı'!G31&CHAR(10)&"HS CODE: "&'Yükleme Talimatı'!H31&IF('Yükleme Talimatı'!I31&'Yükleme Talimatı'!J31="","",CHAR(10)&"IMO: "&'Yükleme Talimatı'!I31&" / UN No: "&'Yükleme Talimatı'!J31)) | E23: =IF('Yükleme Talimatı'!K31="","",'Yükleme Talimatı'!K31) | F23: =IF('Yükleme Talimatı'!L31="","",'Yükleme Talimatı'!L31) | G23: =IF('Yükleme Talimatı'!P31="","",'Yükleme Talimatı'!P31)
A24: =IF(COUNTA('Yükleme Talimatı'!B32:O32)=0,"",'Yükleme Talimatı'!A32) | B24: =IF('Yükleme Talimatı'!B32&'Yükleme Talimatı'!C32&'Yükleme Talimatı'!D32="","",'Yükleme Talimatı'!B32&CHAR(10)&'Yükleme Talimatı'!C32&CHAR(10)&"S.No: "&'Yükleme Talimatı'!D32) | C24: =IF('Yükleme Talimatı'!E32="","",FIXED('Yükleme Talimatı'!E32,0)&CHAR(10)&'Yükleme Talimatı'!F32&IF(COUNT('Yükleme Talimatı'!M32:O32)=3,CHAR(10)&FIXED('Yükleme Talimatı'!M32,0)&"x"&FIXED('Yükleme Talimatı'!N32,0)&"x"&FIXED('Yükleme Talimatı'!O32,0)&" cm","")) | D24: =IF('Yükleme Talimatı'!G32&'Yükleme Talimatı'!H32="","",'Yükleme Talimatı'!G32&CHAR(10)&"HS CODE: "&'Yükleme Talimatı'!H32&IF('Yükleme Talimatı'!I32&'Yükleme Talimatı'!J32="","",CHAR(10)&"IMO: "&'Yükleme Talimatı'!I32&" / UN No: "&'Yükleme Talimatı'!J32)) | E24: =IF('Yükleme Talimatı'!K32="","",'Yükleme Talimatı'!K32) | F24: =IF('Yükleme Talimatı'!L32="","",'Yükleme Talimatı'!L32) | G24: =IF('Yükleme Talimatı'!P32="","",'Yükleme Talimatı'!P32)
A25: TOPLAM
B26: ='Yükleme Talimatı'!B33&"" | C26: =IF('Yükleme Talimatı'!E33=0,"",FIXED('Yükleme Talimatı'!E33,0)&CHAR(10)&'Yükleme Talimatı'!F33) | E26: ='Yükleme Talimatı'!K33 -> 0 | F26: ='Yükleme Talimatı'!L33 -> 0 | G26: ='Yükleme Talimatı'!P33 -> 0
A28: • Ürün tehlikeli kargo kategorisindeyse MSDS ve DG Form iletiniz.
A29: • Yüklemede akreditif şartı varsa, akreditif metninin bir kopyasını tarafımıza iletiniz.
A30: • Emtia Sigortası taleplerinizi ayrıca belirtiniz.
A32: GÜMRÜK ACENTESİ & İLGİLİ KİŞİ | D32: FİRMA KAŞE İMZA
A33: ='Yükleme Talimatı'!C40&CHAR(10)&'Yükleme Talimatı'!C41&CHAR(10)&'Yükleme Talimatı'!C42&CHAR(10)&'Yükleme Talimatı'!C43 | D33: ='Yükleme Talimatı'!G40&""
